Workbook

Sheet ISTRUZIONI
A1: 1 | B1: selezionare la tipologia di appalto fra le tre scelte possibili
A7: 2 | B7: inserire sempre e comunque l'importo di base d'asta
A10: 3 | B10: scegliere se l'importo del compenso è senza "vincoli" cioè calcolato sull'importo a base d'asta
A14: 3a | B14: nel caso in cui l'importo del compenso incentivante fosse vincolato ad una cifra prestabilitsa allora selezionare SI e inserire l'ìimporto nella casella che si evidenzia
A18: 4 | B18: scegliere (SI o NO) se è previsto o meno il coinvolgimanto della Centrale unica di committenza
A22: 5 | B22: scegliere (SI o NO) quali eventuali incarichi sono affidati all'esterno dell'Ente
A30: 6 | B30: definire il gruppo di lavoro scegliendo dall'elenco a discesa per ciascuna voce nelle caselle colorate con lo stesso colore della cella di tipologia di appalto (verde, giallo, azzurro)
A55: 7 | B55: nella tabella delle percentuali di suddivisione di ciascun componente del gruppo è possibile stabilire la singola percentuale che può spettare ai collaboratori tecnici e/o amministrativi, nel caso siano più d'uno, indicando i valori nelle celle colorate in giallo chiaro
A71: 8 | B71: infine nell'ultima tabella utilizzare il filtro per selezionare solamente le celle che contengono SI in modo tale da poter riprodurre il gruppo di lavoro con gli importi calcolati per ciascun componente
A88: 9 | B88: una volta completato il tutto stampare (in PDF o in carta) i risultati che saranno organizzati in 4 pagine in orizzontale
A90: 10 | B90: chiudere il file senza salvare così alla successiva riapertura tutti i campi saranno azzerati, oppure selezionare l'opzione "salva con nome" (in tal caso per un successivo riutilizzo del file tutti le scelte precedentemente effettuate andranno manualmente cambiate o azzerate)

Sheet fondo_EPBEC
E1: Scheda determinazione Fondo incentivante ( Art. 45, D.Lgs. 36/2023 ) | M1: - - -
E2: =IF(E3=""," V ¡¡¡ SCRIVERE IL TITOLO DEL PROGETTO !!! V","Titolo del progetto") -> V ¡¡¡ SCRIVERE IL TITOLO DEL PROGETTO !!! V | F2: =IF(OR(M1="",M1="- - -"),"selezionare la tipologia > > >","cambiare tipologia > > >") -> selezionare la tipologia > > >
F5: CUP | N5: CIG
A7: FALSE | B7: TRUE | E7: Servizi ingegneria/architettura o comparabili? | F7: SI NO | H7: =IF(AND(L11<>"null",L11>2),"¡ ¡ ¡ Attenzione ! ! ! La percentuale è superiore al 2 % massimo consentito","") | Q7: =IF(AND(A14=TRUE,B14=FALSE),"inserire il valore del Fondo vincolato","")
E9: =IF(AND(M1="SERVIZI",A7=TRUE,B7=FALSE),"Base d'asta compresi oneri di Cassa, esclusa IVA",IF(OR(M1="LAVORI",M1="SERVIZI",M1="FORNITURE"),"Base d'asta compresi oneri di sicurezza, esclusa IVA","Base d'asta, esclusa IVA")) -> Base d'asta, esclusa IVA | M9: €uro | N9: 0 | P9: ( A )
E11: Quota percentuale applicabile ( artt. 8, 11 Reg. EPBEC - max 2% ) | K11: % | L11: =IFERROR(IF(OR(M1="",M1="- - -"),"null",IF(vincolo_FONDO!C2=1,((fondo_EPBEC!N14/fondo_EPBEC!N9)*100),IF($M$1="lavori",IF(N9<='fondo_%_LAVORI_36-23'!B4,'fondo_%_LAVORI_36-23'!C4,IF(AND(N9>='fondo_%_LAVORI_36-23'!A5,N9<='fondo_%_LAVORI_36-23'!B5),'fondo_%_LAVORI_36-23'!C5,IF(AND(N9>='fondo_%_LAVORI_36-23'!A6,N9<='fondo_%_LAVORI_36-23'!B6),'fondo_%_LAVORI_36-23'!C6,IF(N9>='fondo_%_LAVORI_36-23'!A7,'fondo_%_LAVORI_36-23'!C7,)))),IF(OR($M$1="servizi",$M$1="forniture"),IF(N9<='fondo_%_SERVIZI-FORNITURE_36-23'!B4,'fondo_%_SERVIZI-FORNITURE_36-23'!C4,IF(AND(N9>='fondo_%_SERVIZI-FORNITURE_36-23'!A5,N9<='fondo_%_SERVIZI-FORNITURE_36-23'!B5),'fondo_%_SERVIZI-FORNITURE_36-23'!C5,IF(N9>='fondo_%_SERVIZI-FORNITURE_36-23'!A6,'fondo_%_SERVIZI-FORNITURE_36-23'!C6,0)))))))-L12,"null") -> null | P11: ( B ) | Q11: =IF(AND(A14=TRUE,B14=FALSE),"V V V V V V","") | S11: =29750*(2/100) -> 595
E12: Eventuale diminuzione percentuale stabilita dall'Amministrazione | K12: % (-)
A14: =vincolo_FONDO!B2 -> FALSE | B14: =vincolo_FONDO!B3 -> TRUE | E14: Importo del Fondo complessivo | F14: =UPPER("IMPORTO già FISSato") -> IMPORTO GIÀ FISSATO | G14: SI | I14: NO | K14: > > > | L14: Q.E. | M14: €uro | N14: =IFERROR(IF(vincolo_FONDO!C2=1,Q12,ROUND(N9*(L11/100),2)),0) -> 0 | P14: ( C ) | Q14: =IF(Q12>0,"> > > > > ","")
Q15: =IF(Q12>0,"ricordarsi di cancellare il valore del Fondo vincolato inserito","")
A16: ='CUC_36-23'!B15 -> FALSE | B16: ='CUC_36-23'!B16 -> TRUE | E16: Quota C.U.C. (art. 6, Reg. EPBEC) | G16: SI | I16: NO | K16: % | L16: =IF(AND('CUC_36-23'!B15=TRUE,'CUC_36-23'!B16=FALSE),'CUC_36-23'!C18-L17,IF('CUC_36-23'!B16=TRUE,0,0)) -> 0 | M16: €uro | N16: =IFERROR(ROUND(-N14*(L16/100),2),0) -> 0 | P16: ( D )
E17: Eventuale diminuzione percentuale stabilita dall'Amministrazione | K17: % (-)
A19: FALSE | B19: TRUE | E19: Finanziamenti europei o a destinazione vincolata | G19: SI | I19: NO | K19: non possono costituire importo per la quota del 20 % [rif. lettera ( F )]
E21: Importo del Fondo EPBEC (dopo detrazione quota C.U.C.) | M21: €uro | N21: =SUM(N14:O17) -> 0 | P21: ( E )
E23: > di cui per INNOVAZIONE TECNOLOGICA per l'Ente | K23: % | L23: 20 | M23: €uro | N23: =IF(AND(A19=TRUE,B19=FALSE),0,ROUND($N$14*(L23/100),2)) -> 0 | P23: ( F )
E24: > di cui per FONDO INCENTIVANTE per il personale | K24: % | L24: 80 | M24: €uro | N24: =IF(AND(A19=TRUE,B19=FALSE),N21,ROUND($N$14*(L24/100),2)+N16) -> 0 | P24: ( G )
E26: Suddivisione quota Centrale Unica di Committenza (C.U.C.) | I26: ( D ) | M26: (Art. 6, Regolamento EPBEC)
M27: questi importi sono detratti dalla quota complessiva per il Fondo destinato al personale - 80 % - di cui alla lettera ( G )
E28: funzione | F28: % | H28: €uro
E29: responsabile della CUC | F29: 70 | H29: =$N$16*(-F29/100) -> 0
E30: collaboratore CUC (1) | F30: 15 | H30: =$N$16*(-F30/100) -> 0
E31: collaboratore CUC (2) | F31: 15 | H31: =$N$16*(-F31/100) -> 0
E32: Totale | F32: =SUM(F29:F31) -> 100 | H32: =SUM(H29:K31) -> 0
E34: affidamenti esterni da detrarre dal Fondo EPBEC | H34: ( H ) | K34: % | L34: €uro | O34: ( Art. 7, comma 1, Regolamento EPBEC )
A35: =+'affidamenti EXT_36-23'!C2 -> FALSE | B35: =+'affidamenti EXT_36-23'!D2 -> TRUE | E35: Responsabile unico del progetto | G35: SI | I35: NO | K35: =IF(AND('affidamenti EXT_36-23'!C2=TRUE,'affidamenti EXT_36-23'!D2=FALSE),'affidamenti EXT_36-23'!E2,IF('affidamenti EXT_36-23'!D2=TRUE,0,0)) -> 0 | L35: =ROUND($N$24*(K35/100),2) -> 0 | O35: questi importi vengono detratti dalla quota di Fondo destinato al personale - 80 % - ( G ) e riportati in aggiunta alla quota del Fondo per l'Amministrazione - 20 % - ( F )
A36: =+'affidamenti EXT_36-23'!C3 -> FALSE | B36: =+'affidamenti EXT_36-23'!D3 -> TRUE | E36: Programmazione della spesa per investimenti | G36: SI | I36: NO | K36: =IF(AND('affidamenti EXT_36-23'!C3=TRUE,'affidamenti EXT_36-23'!D3=FALSE),'affidamenti EXT_36-23'!E3,IF('affidamenti EXT_36-23'!D3=TRUE,0,0)) -> 0 | L36: =ROUND($N$24*(K36/100),2) -> 0
A37: =+'affidamenti EXT_36-23'!C4 -> FALSE | B37: =+'affidamenti EXT_36-23'!D4 -> TRUE | E37: Collaborazione all'attività del RUP, quali responsabili e addetti alla gestione tecnico-amministrativa dell'intervento | G37: SI | I37: NO | K37: =IF(AND('affidamenti EXT_36-23'!C4=TRUE,'affidamenti EXT_36-23'!D4=FALSE),'affidamenti EXT_36-23'!E4,IF('affidamenti EXT_36-23'!D4=TRUE,0,0)) -> 0 | L37: =ROUND($N$24*(K37/100),2) -> 0
A38: =+'affidamenti EXT_36-23'!C5 -> FALSE | B38: =+'affidamenti EXT_36-23'!D5 -> TRUE | E38: Redazione del documento di fattibilità delle alternative progettuali | G38: SI | I38: NO | K38: =IF(AND('affidamenti EXT_36-23'!C5=TRUE,'affidamenti EXT_36-23'!D5=FALSE),'affidamenti EXT_36-23'!E5,IF('affidamenti EXT_36-23'!D5=TRUE,0,0)) -> 0 | L38: =ROUND($N$24*(K38/100),2) -> 0
A39: =+'affidamenti EXT_36-23'!C6 -> FALSE | B39: =+'affidamenti EXT_36-23'!D6 -> TRUE | E39: Redazione del progetto di fattibilità tecnica ed economica | G39: SI | I39: NO | K39: =IF(AND('affidamenti EXT_36-23'!C6=TRUE,'affidamenti EXT_36-23'!D6=FALSE),'affidamenti EXT_36-23'!E6,IF('affidamenti EXT_36-23'!D6=TRUE,0,0)) -> 0 | L39: =ROUND($N$24*(K39/100),2) -> 0
A40: =+'affidamenti EXT_36-23'!C7 -> FALSE | B40: =+'affidamenti EXT_36-23'!D7 -> TRUE | E40: Redazione del progetto esecutivo | G40: SI | I40: NO | K40: =IF(AND('affidamenti EXT_36-23'!C7=TRUE,'affidamenti EXT_36-23'!D7=FALSE),'affidamenti EXT_36-23'!E7,IF('affidamenti EXT_36-23'!D7=TRUE,0,0)) -> 0 | L40: =ROUND($N$24*(K40/100),2) -> 0
A41: =+'affidamenti EXT_36-23'!C8 -> FALSE | B41: =+'affidamenti EXT_36-23'!D8 -> TRUE | E41: Coordinamento per la sicurezza in fase di progettazione | G41: SI | I41: NO | K41: =IF(AND('affidamenti EXT_36-23'!C8=TRUE,'affidamenti EXT_36-23'!D8=FALSE),'affidamenti EXT_36-23'!E8,IF('affidamenti EXT_36-23'!D8=TRUE,0,0)) -> 0 | L41: =ROUND($N$24*(K41/100),2) -> 0
A42: =+'affidamenti EXT_36-23'!C9 -> FALSE | B42: =+'affidamenti EXT_36-23'!D9 -> TRUE | E42: Verifica del progetto ai fini della sua validazione | G42: SI | I42: NO | K42: =IF(AND('affidamenti EXT_36-23'!C9=TRUE,'affidamenti EXT_36-23'!D9=FALSE),'affidamenti EXT_36-23'!E9,IF('affidamenti EXT_36-23'!D9=TRUE,0,0)) -> 0 | L42: =ROUND($N$24*(K42/100),2) -> 0
A43: =+'affidamenti EXT_36-23'!C10 -> FALSE | B43: =+'affidamenti EXT_36-23'!D10 -> TRUE | E43: Predisposizione dei documenti di gara | G43: SI | I43: NO | K43: =IF(AND('affidamenti EXT_36-23'!C10=TRUE,'affidamenti EXT_36-23'!D10=FALSE),'affidamenti EXT_36-23'!E10,IF('affidamenti EXT_36-23'!D10=TRUE,0,0)) -> 0 | L43: =ROUND($N$24*(K43/100),2) -> 0
A44: =+'affidamenti EXT_36-23'!C11 -> FALSE | B44: =+'affidamenti EXT_36-23'!D11 -> TRUE | E44: Direzione dei lavori | G44: SI | I44: NO | K44: =IF(AND('affidamenti EXT_36-23'!C11=TRUE,'affidamenti EXT_36-23'!D11=FALSE),'affidamenti EXT_36-23'!E11,IF('affidamenti EXT_36-23'!D11=TRUE,0,0)) -> 0 | L44: =ROUND($N$24*(K44/100),2) -> 0
A45: =+'affidamenti EXT_36-23'!C12 -> FALSE | B45: =+'affidamenti EXT_36-23'!D12 -> TRUE | E45: Collaborazione Direzione Lavori | G45: SI | I45: NO | K45: =IF(AND('affidamenti EXT_36-23'!C12=TRUE,'affidamenti EXT_36-23'!D12=FALSE),'affidamenti EXT_36-23'!E12,IF('affidamenti EXT_36-23'!D12=TRUE,0,0)) -> 0 | L45: =ROUND($N$24*(K45/100),2) -> 0
A46: =+'affidamenti EXT_36-23'!C13 -> FALSE | B46: =+'affidamenti EXT_36-23'!D13 -> TRUE | E46: Coordinamento per la sicurezza in fase di esecuzione | G46: SI | I46: NO | K46: =IF(AND('affidamenti EXT_36-23'!C13=TRUE,'affidamenti EXT_36-23'!D13=FALSE),'affidamenti EXT_36-23'!E13,IF('affidamenti EXT_36-23'!D13=TRUE,0,0)) -> 0 | L46: =ROUND($N$24*(K46/100),2) -> 0
A47: =+'affidamenti EXT_36-23'!C14 -> FALSE | B47: =+'affidamenti EXT_36-23'!D14 -> TRUE | E47: Regolare esecuzione, collaudo tecnico-amministrativo | G47: SI | I47: NO | K47: =IF(AND('affidamenti EXT_36-23'!C14=TRUE,'affidamenti EXT_36-23'!D14=FALSE),'affidamenti EXT_36-23'!E14,IF('affidamenti EXT_36-23'!D14=TRUE,0,0)) -> 0 | L47: =ROUND($N$24*(K47/100),2) -> 0
A48: =+'affidamenti EXT_36-23'!C15 -> FALSE | B48: =+'affidamenti EXT_36-23'!D15 -> TRUE | E48: Collaudo statico | G48: SI | I48: NO | K48: =IF(AND('affidamenti EXT_36-23'!C15=TRUE,'affidamenti EXT_36-23'!D15=FALSE),'affidamenti EXT_36-23'!E15,IF('affidamenti EXT_36-23'!D15=TRUE,0,0)) -> 0 | L48: =ROUND($N$24*(K48/100),2) -> 0
A49: =+'affidamenti EXT_36-23'!I2 -> FALSE | B49: =+'affidamenti EXT_36-23'!J2 -> TRUE | E49: Responsabile unico del progetto | G49: SI | I49: NO | K49: =IF(AND('affidamenti EXT_36-23'!I2=TRUE,'affidamenti EXT_36-23'!J2=FALSE),'affidamenti EXT_36-23'!K2,IF('affidamenti EXT_36-23'!J2=TRUE,0,0)) -> 0 | L49: =ROUND($N$24*(K49/100),2) -> 0
A50: =+'affidamenti EXT_36-23'!I3 -> FALSE | B50: =+'affidamenti EXT_36-23'!J3 -> TRUE | E50: Programmazione della spesa per investimenti | G50: SI | I50: NO | K50: =IF(AND('affidamenti EXT_36-23'!I3=TRUE,'affidamenti EXT_36-23'!J3=FALSE),'affidamenti EXT_36-23'!K3,IF('affidamenti EXT_36-23'!J3=TRUE,0,0)) -> 0 | L50: =ROUND($N$24*(K50/100),2) -> 0
A51: =+'affidamenti EXT_36-23'!I4 -> FALSE | B51: =+'affidamenti EXT_36-23'!J4 -> TRUE | E51: Collaborazione all'attività del RUP, quali responsabili e addetti alla gestione tecnico-amministrativa dell'intervento | G51: SI | I51: NO | K51: =IF(AND('affidamenti EXT_36-23'!I4=TRUE,'affidamenti EXT_36-23'!J4=FALSE),'affidamenti EXT_36-23'!K4,IF('affidamenti EXT_36-23'!J4=TRUE,0,0)) -> 0 | L51: =ROUND($N$24*(K51/100),2) -> 0
A52: =+'affidamenti EXT_36-23'!I5 -> FALSE | B52: =+'affidamenti EXT_36-23'!J5 -> TRUE | E52: Redazione del progetto (livello unico) | G52: SI | I52: NO | K52: =IF(AND('affidamenti EXT_36-23'!I5=TRUE,'affidamenti EXT_36-23'!J5=FALSE),'affidamenti EXT_36-23'!K5,IF('affidamenti EXT_36-23'!J5=TRUE,0,0)) -> 0 | L52: =ROUND($N$24*(K52/100),2) -> 0
A53: =+'affidamenti EXT_36-23'!I6 -> FALSE | B53: =+'affidamenti EXT_36-23'!J6 -> TRUE | E53: Predisposizione dei documenti di gara | G53: SI | I53: NO | K53: =IF(AND('affidamenti EXT_36-23'!I6=TRUE,'affidamenti EXT_36-23'!J6=FALSE),'affidamenti EXT_36-23'!K6,IF('affidamenti EXT_36-23'!J6=TRUE,0,0)) -> 0 | L53: =ROUND($N$24*(K53/100),2) -> 0
A54: =+'affidamenti EXT_36-23'!I7 -> FALSE | B54: =+'affidamenti EXT_36-23'!J7 -> TRUE | E54: Direzione dell'esecuzione | G54: SI | I54: NO | K54: =IF(AND('affidamenti EXT_36-23'!I7=TRUE,'affidamenti EXT_36-23'!J7=FALSE),'affidamenti EXT_36-23'!K7,IF('affidamenti EXT_36-23'!J7=TRUE,0,0)) -> 0 | L54: =ROUND($N$24*(K54/100),2) -> 0
A55: =+'affidamenti EXT_36-23'!I8 -> FALSE | B55: =+'affidamenti EXT_36-23'!J8 -> TRUE | E55: Direzione operativa | G55: SI | I55: NO | K55: =IF(AND('affidamenti EXT_36-23'!I8=TRUE,'affidamenti EXT_36-23'!J8=FALSE),'affidamenti EXT_36-23'!K8,IF('affidamenti EXT_36-23'!J8=TRUE,0,0)) -> 0 | L55: =ROUND($N$24*(K55/100),2) -> 0
A56: =+'affidamenti EXT_36-23'!I9 -> FALSE | B56: =+'affidamenti EXT_36-23'!J9 -> TRUE | E56: Verifica di conformità | G56: SI | I56: NO | K56: =IF(AND('affidamenti EXT_36-23'!I9=TRUE,'affidamenti EXT_36-23'!J9=FALSE),'affidamenti EXT_36-23'!K9,IF('affidamenti EXT_36-23'!J9=TRUE,0,0)) -> 0 | L56: =ROUND($N$24*(K56/100),2) -> 0
I57: Totale | K57: =SUM(K35:K56) -> 0 | L57: =SUM(L35:M56) -> 0
E60: FONDO da riportare nel quadro economico di progetto dopo le detrazioni | F60: ( C ) | K60: quota Fondo per INNOVAZIONE TECNOLOGICA | M60: ( F ) | N60: quota Fondo per GUPPO LAVORO - da ripartire - | P60: ( G ) | Q60: C.U.C. | R60: ( D )
K63: = [ ( C ) * 20 % ] + ( H ) | N63: = ( C ) - ( F ) - ( D ) | Q63: =CONCATENATE("= ( C ) * ",IF(L16>0,L16,"__")," %") -> = ( C ) * __ %
F64: =+N14 -> 0 | K64: % | L64: =+N23+L57 -> 0 | N64: % | O64: =F64-L64-R64 -> 0 | Q64: % | R64: =-N16 -> 0
K65: =IFERROR(ROUND((L64/F64*100),2),0) -> 0 | N65: =IFERROR(ROUND((O64/F64*100),2),0) -> 0 | Q65: =IFERROR(ROUND((R64/F64*100),2),0) -> 0
E68: DEFINIZIONE, RUOLI E E ATTRIBUZIONI, PERCENTUALI E IMPORTI DEL GRUPPO DI LAVORO
E70: {=IF(AND(LEN(O74:Q95)<=8,LEN(R74:R95)<=5),"Gruppo di lavoro da costituire",CONCATENATE("( Unità di personale coinvolte nel Gruppo di lavoro, n. ",SUM(IF(LEN(O74:Q95)>8,1/COUNTIF(O74:Q95,O74:Q95)))," - Servizi coinvolti, n. ",SUM(IF(LEN(R74:R95)>5,1/COUNTIF(R74:R95,R74:R95)))," )"))} -> Gruppo di lavoro da costituire
M72: RIPARAMETRAZIONE
E73: attribuzioni al personale EPBEC | H73: ( H ) | K73: % | L73: €uro | M73: % | N73: €uro | O73: nominativo | R73: Servizio
A74: =+'attribuzioni EPBEC_36-23'!C2 -> FALSE | B74: =+'attribuzioni EPBEC_36-23'!D2 -> TRUE | C74: =IF(A35=TRUE,"X","") | E74: Responsabile unico del progetto | G74: SI | I74: NO | K74: =IF(C74="X","-",IF(AND('attribuzioni EPBEC_36-23'!C2=TRUE,'attribuzioni EPBEC_36-23'!D2=FALSE),'attribuzioni EPBEC_36-23'!E2,IF('attribuzioni EPBEC_36-23'!D2=TRUE,0,0))) -> 0 | L74: =IF(C74="X","(esternalizzato)",ROUND($O$64*(K74/100),2)) -> 0 | M74: =IFERROR(IF(C74="X","-",(1/$K$96*K74)),0) -> 0 | N74: =IFERROR(ROUND($O$64*(M74/100),2),0) -> 0 | O74: - - - - | R74: =IFERROR(IF(VLOOKUP(O74,personale[[NOMINATIVO]:[SERVIZIO]],4,FALSE)=0,"- - -",VLOOKUP(O74,personale[[NOMINATIVO]:[SERVIZIO]],4,FALSE)),"") -> - - -
A75: =+'attribuzioni EPBEC_36-23'!C3 -> FALSE | B75: =+'attribuzioni EPBEC_36-23'!D3 -> TRUE | C75: =IF(A36=TRUE,"X","") | E75: Programmazione della spesa per investimenti | G75: SI | I75: NO | K75: =IF(C75="X","-",IF(AND('attribuzioni EPBEC_36-23'!C3=TRUE,'attribuzioni EPBEC_36-23'!D3=FALSE),'attribuzioni EPBEC_36-23'!E3,IF('attribuzioni EPBEC_36-23'!D3=TRUE,0,0))) -> 0 | L75: =IF(C75="X","(esternalizzato)",ROUND($O$64*(K75/100),2)) -> 0 | M75: =IFERROR(IF(C75="X","-",(1/$K$96*K75)),0) -> 0 | N75: =IFERROR(ROUND($O$64*(M75/100),2),0) -> 0 | O75: - - - - | R75: =IFERROR(IF(VLOOKUP(O75,personale[[NOMINATIVO]:[SERVIZIO]],4,FALSE)=0,"- - -",VLOOKUP(O75,personale[[NOMINATIVO]:[SERVIZIO]],4,FALSE)),"") -> - - -
A76: =+'attribuzioni EPBEC_36-23'!C4 -> FALSE | B76: =+'attribuzioni EPBEC_36-23'!D4 -> TRUE | C76: =IF(A37=TRUE,"X","") | E76: Collaborazione all'attività del RUP, quali responsabili e addetti alla gestione tecnico-amministrativa dell'intervento | G76: SI | I76: NO | K76: =IF(C76="X","-",IF(AND('attribuzioni EPBEC_36-23'!C4=TRUE,'attribuzioni EPBEC_36-23'!D4=FALSE),'attribuzioni EPBEC_36-23'!E4,IF('attribuzioni EPBEC_36-23'!D4=TRUE,0,0))) -> 0 | L76: =IF(C76="X","(esternalizzato)",ROUND($O$64*(K76/100),2)) -> 0 | M76: =IFERROR(IF(C76="X","-",(1/$K$96*K76)),0) -> 0 | N76: =IFERROR(ROUND($O$64*(M76/100),2),0) -> 0 | O76: - - - - | R76: =IFERROR(IF(VLOOKUP(O76,personale[[NOMINATIVO]:[SERVIZIO]],4,FALSE)=0,"- - -",VLOOKUP(O76,personale[[NOMINATIVO]:[SERVIZIO]],4,FALSE)),"") -> - - -
A77: =+'attribuzioni EPBEC_36-23'!C5 -> FALSE | B77: =+'attribuzioni EPBEC_36-23'!D5 -> TRUE | C77: =IF(A38=TRUE,"X","") | E77: Redazione del documento di fattibilità delle alternative progettuali | G77: SI | I77: NO | K77: =IF(C77="X","-",IF(AND('attribuzioni EPBEC_36-23'!C5=TRUE,'attribuzioni EPBEC_36-23'!D5=FALSE),'attribuzioni EPBEC_36-23'!E5,IF('attribuzioni EPBEC_36-23'!D5=TRUE,0,0))) -> 0 | L77: =IF(C77="X","(esternalizzato)",ROUND($O$64*(K77/100),2)) -> 0 | M77: =IFERROR(IF(C77="X","-",(1/$K$96*K77)),0) -> 0 | N77: =IFERROR(ROUND($O$64*(M77/100),2),0) -> 0 | O77: - - - - | R77: =IFERROR(IF(VLOOKUP(O77,personale[[NOMINATIVO]:[SERVIZIO]],4,FALSE)=0,"- - -",VLOOKUP(O77,personale[[NOMINATIVO]:[SERVIZIO]],4,FALSE)),"") -> - - -
A78: =+'attribuzioni EPBEC_36-23'!C6 -> FALSE | B78: =+'attribuzioni EPBEC_36-23'!D6 -> TRUE | C78: =IF(A39=TRUE,"X","") | E78: Redazione del progetto di fattibilità tecnica ed economica | G78: SI | I78: NO | K78: =IF(C78="X","-",IF(AND('attribuzioni EPBEC_36-23'!C6=TRUE,'attribuzioni EPBEC_36-23'!D6=FALSE),'attribuzioni EPBEC_36-23'!E6,IF('attribuzioni EPBEC_36-23'!D6=TRUE,0,0))) -> 0 | L78: =IF(C78="X","(esternalizzato)",ROUND($O$64*(K78/100),2)) -> 0 | M78: =IFERROR(IF(C78="X","-",(1/$K$96*K78)),0) -> 0 | N78: =IFERROR(ROUND($O$64*(M78/100),2),0) -> 0 | O78: - - - - | R78: =IFERROR(IF(VLOOKUP(O78,personale[[NOMINATIVO]:[SERVIZIO]],4,FALSE)=0,"- - -",VLOOKUP(O78,personale[[NOMINATIVO]:[SERVIZIO]],4,FALSE)),"") -> - - -
A79: =+'attribuzioni EPBEC_36-23'!C7 -> FALSE | B79: =+'attribuzioni EPBEC_36-23'!D7 -> TRUE | C79: =IF(A40=TRUE,"X","") | E79: Redazione del progetto esecutivo | G79: SI | I79: NO | K79: =IF(C79="X","-",IF(AND('attribuzioni EPBEC_36-23'!C7=TRUE,'attribuzioni EPBEC_36-23'!D7=FALSE),'attribuzioni EPBEC_36-23'!E7,IF('attribuzioni EPBEC_36-23'!D7=TRUE,0,0))) -> 0 | L79: =IF(C79="X","(esternalizzato)",ROUND($O$64*(K79/100),2)) -> 0 | M79: =IFERROR(IF(C79="X","-",(1/$K$96*K79)),0) -> 0 | N79: =IFERROR(ROUND($O$64*(M79/100),2),0) -> 0 | O79: - - - - | R79: =IFERROR(IF(VLOOKUP(O79,personale[[NOMINATIVO]:[SERVIZIO]],4,FALSE)=0,"- - -",VLOOKUP(O79,personale[[NOMINATIVO]:[SERVIZIO]],4,FALSE)),"") -> - - -
A80: =+'attribuzioni EPBEC_36-23'!C8 -> FALSE | B80: =+'attribuzioni EPBEC_36-23'!D8 -> TRUE | C80: =IF(A41=TRUE,"X","") | E80: Coordinamento per la sicurezza in fase di progettazione | G80: SI | I80: NO | K80: =IF(C80="X","-",IF(AND('attribuzioni EPBEC_36-23'!C8=TRUE,'attribuzioni EPBEC_36-23'!D8=FALSE),'attribuzioni EPBEC_36-23'!E8,IF('attribuzioni EPBEC_36-23'!D8=TRUE,0,0))) -> 0 | L80: =IF(C80="X","(esternalizzato)",ROUND($O$64*(K80/100),2)) -> 0 | M80: =IFERROR(IF(C80="X","-",(1/$K$96*K80)),0) -> 0 | N80: =IFERROR(ROUND($O$64*(M80/100),2),0) -> 0 | O80: - - - - | R80: =IFERROR(IF(VLOOKUP(O80,personale[[NOMINATIVO]:[SERVIZIO]],4,FALSE)=0,"- - -",VLOOKUP(O80,personale[[NOMINATIVO]:[SERVIZIO]],4,FALSE)),"") -> - - -
A81: =+'attribuzioni EPBEC_36-23'!C9 -> FALSE | B81: =+'attribuzioni EPBEC_36-23'!D9 -> TRUE | C81: =IF(A42=TRUE,"X","") | E81: Verifica del progetto ai fini della sua validazione | G81: SI | I81: NO | K81: =IF(C81="X","-",IF(AND('attribuzioni EPBEC_36-23'!C9=TRUE,'attribuzioni EPBEC_36-23'!D9=FALSE),'attribuzioni EPBEC_36-23'!E9,IF('attribuzioni EPBEC_36-23'!D9=TRUE,0,0))) -> 0 | L81: =IF(C81="X","(esternalizzato)",ROUND($O$64*(K81/100),2)) -> 0 | M81: =IFERROR(IF(C81="X","-",(1/$K$96*K81)),0) -> 0 | N81: =IFERROR(ROUND($O$64*(M81/100),2),0) -> 0 | O81: - - - - | R81: =IFERROR(IF(VLOOKUP(O81,personale[[NOMINATIVO]:[SERVIZIO]],4,FALSE)=0,"- - -",VLOOKUP(O81,personale[[NOMINATIVO]:[SERVIZIO]],4,FALSE)),"") -> - - -
A82: =+'attribuzioni EPBEC_36-23'!C10 -> FALSE | B82: =+'attribuzioni EPBEC_36-23'!D10 -> TRUE | C82: =IF(A43=TRUE,"X","") | E82: Predisposizione dei documenti di gara | G82: SI | I82: NO | K82: =IF(C82="X","-",IF(AND('attribuzioni EPBEC_36-23'!C10=TRUE,'attribuzioni EPBEC_36-23'!D10=FALSE),'attribuzioni EPBEC_36-23'!E10,IF('attribuzioni EPBEC_36-23'!D10=TRUE,0,0))) -> 0 | L82: =IF(C82="X","(esternalizzato)",ROUND($O$64*(K82/100),2)) -> 0 | M82: =IFERROR(IF(C82="X","-",(1/$K$96*K82)),0) -> 0 | N82: =IFERROR(ROUND($O$64*(M82/100),2),0) -> 0 | O82: - - - - | R82: =IFERROR(IF(VLOOKUP(O82,personale[[NOMINATIVO]:[SERVIZIO]],4,FALSE)=0,"- - -",VLOOKUP(O82,personale[[NOMINATIVO]:[SERVIZIO]],4,FALSE)),"") -> - - -
A83: =+'attribuzioni EPBEC_36-23'!C11 -> FALSE | B83: =+'attribuzioni EPBEC_36-23'!D11 -> TRUE | C83: =IF(A44=TRUE,"X","") | E83: Direzione dei lavori | G83: SI | I83: NO | K83: =IF(C83="X","-",IF(AND('attribuzioni EPBEC_36-23'!C11=TRUE,'attribuzioni EPBEC_36-23'!D11=FALSE),'attribuzioni EPBEC_36-23'!E11,IF('attribuzioni EPBEC_36-23'!D11=TRUE,0,0))) -> 0 | L83: =IF(C83="X","(esternalizzato)",ROUND($O$64*(K83/100),2)) -> 0 | M83: =IFERROR(IF(C83="X","-",(1/$K$96*K83)),0) -> 0 | N83: =IFERROR(ROUND($O$64*(M83/100),2),0) -> 0 | O83: - - - - | R83: =IFERROR(IF(VLOOKUP(O83,personale[[NOMINATIVO]:[SERVIZIO]],4,FALSE)=0,"- - -",VLOOKUP(O83,personale[[NOMINATIVO]:[SERVIZIO]],4,FALSE)),"") -> - - -
A84: =+'attribuzioni EPBEC_36-23'!C12 -> FALSE | B84: =+'attribuzioni EPBEC_36-23'!D12 -> TRUE | C84: =IF(A45=TRUE,"X","") | E84: Collaborazione Direzione Lavori | G84: SI | I84: NO | K84: =IF(C84="X","-",IF(AND('attribuzioni EPBEC_36-23'!C12=TRUE,'attribuzioni EPBEC_36-23'!D12=FALSE),'attribuzioni EPBEC_36-23'!E12,IF('attribuzioni EPBEC_36-23'!D12=TRUE,0,0))) -> 0 | L84: =IF(C84="X","(esternalizzato)",ROUND($O$64*(K84/100),2)) -> 0 | M84: =IFERROR(IF(C84="X","-",(1/$K$96*K84)),0) -> 0 | N84: =IFERROR(ROUND($O$64*(M84/100),2),0) -> 0 | O84: - - - - | R84: =IFERROR(IF(VLOOKUP(O84,personale[[NOMINATIVO]:[SERVIZIO]],4,FALSE)=0,"- - -",VLOOKUP(O84,personale[[NOMINATIVO]:[SERVIZIO]],4,FALSE)),"") -> - - -
A85: =+'attribuzioni EPBEC_36-23'!C13 -> FALSE | B85: =+'attribuzioni EPBEC_36-23'!D13 -> TRUE | C85: =IF(A46=TRUE,"X","") | E85: Coordinamento per la sicurezza in fase di esecuzione | G85: SI | I85: NO | K85: =IF(C85="X","-",IF(AND('attribuzioni EPBEC_36-23'!C13=TRUE,'attribuzioni EPBEC_36-23'!D13=FALSE),'attribuzioni EPBEC_36-23'!E13,IF('attribuzioni EPBEC_36-23'!D13=TRUE,0,0))) -> 0 | L85: =IF(C85="X","(esternalizzato)",ROUND($O$64*(K85/100),2)) -> 0 | M85: =IFERROR(IF(C85="X","-",(1/$K$96*K85)),0) -> 0 | N85: =IFERROR(ROUND($O$64*(M85/100),2),0) -> 0 | O85: - - - - | R85: =IFERROR(IF(VLOOKUP(O85,personale[[NOMINATIVO]:[SERVIZIO]],4,FALSE)=0,"- - -",VLOOKUP(O85,personale[[NOMINATIVO]:[SERVIZIO]],4,FALSE)),"") -> - - -
... A87: =+'attribuzioni EPBEC_36-23'!C15 -> FALSE | B87: =+'attribuzioni EPBEC_36-23'!D15 -> TRUE | C87: =IF(A48=TRUE,"X","") | E87: Collaudo statico | G87: SI | I87: NO | K87: =IF(C87="X","-",IF(AND('attribuzioni EPBEC_36-23'!C15=TRUE,'attribuzioni EPBEC_36-23'!D15=FALSE),'attribuzioni EPBEC_36-23'!E15,IF('attribuzioni EPBEC_36-23'!D15=TRUE,0,0))) -> 0 | L87: =IF(C87="X","(esternalizzato)",ROUND($O$64*(K87/100),2)) -> 0 | M87: =IFERROR(IF(C87="X","-",(1/$K$96*K87)),0) -> 0 | N87: =IFERROR(ROUND($O$64*(M87/100),2),0) -> 0 | O87: - - - - | R87: =IFERROR(IF(VLOOKUP(O87,personale[[NOMINATIVO]:[SERVIZIO]],4,FALSE)=0,"- - -",VLOOKUP(O87,personale[[NOMINATIVO]:[SERVIZIO]],4,FALSE)),"") -> - - -
A88: =+'attribuzioni EPBEC_36-23'!I2 -> FALSE | B88: =+'attribuzioni EPBEC_36-23'!J2 -> TRUE | C88: =IF(A49=TRUE,"X","") | E88: Responsabile unico del progetto | G88: SI | I88: NO | K88: =IF(C88="X","-",IF(AND('attribuzioni EPBEC_36-23'!I2=TRUE,'attribuzioni EPBEC_36-23'!J2=FALSE),'attribuzioni EPBEC_36-23'!K2,IF('attribuzioni EPBEC_36-23'!J2=TRUE,0,0))) -> 0 | L88: =IF(C88="X","(esternalizzato)",ROUND($O$64*(K88/100),2)) -> 0 | M88: =IFERROR(IF(C88="X","-",(1/$K$96*K88)),0) -> 0 | N88: =IFERROR(ROUND($O$64*(M88/100),2),0) -> 0 | O88: - - - - | R88: =IFERROR(IF(VLOOKUP(O88,personale[[NOMINATIVO]:[SERVIZIO]],4,FALSE)=0,"- - -",VLOOKUP(O88,personale[[NOMINATIVO]:[SERVIZIO]],4,FALSE)),"") -> - - -
A89: =+'attribuzioni EPBEC_36-23'!I3 -> FALSE | B89: =+'attribuzioni EPBEC_36-23'!J3 -> TRUE | C89: =IF(A50=TRUE,"X","") | E89: Programmazione della spesa per investimenti | G89: SI | I89: NO | K89: =IF(C89="X","-",IF(AND('attribuzioni EPBEC_36-23'!I3=TRUE,'attribuzioni EPBEC_36-23'!J3=FALSE),'attribuzioni EPBEC_36-23'!K3,IF('attribuzioni EPBEC_36-23'!J3=TRUE,0,0))) -> 0 | L89: =IF(C89="X","(esternalizzato)",ROUND($O$64*(K89/100),2)) -> 0 | M89: =IFERROR(IF(C89="X","-",(1/$K$96*K89)),0) -> 0 | N89: =IFERROR(ROUND($O$64*(M89/100),2),0) -> 0 | O89: - - - - | R89: =IFERROR(IF(VLOOKUP(O89,personale[[NOMINATIVO]:[SERVIZIO]],4,FALSE)=0,"- - -",VLOOKUP(O89,personale[[NOMINATIVO]:[SERVIZIO]],4,FALSE)),"") -> - - -
A90: =+'attribuzioni EPBEC_36-23'!I4 -> FALSE | B90: =+'attribuzioni EPBEC_36-23'!J4 -> TRUE | C90: =IF(A51=TRUE,"X","") | E90: Collaborazione all'attività del RUP, quali responsabili e addetti alla gestione tecnico-amministrativa dell'intervento | G90: SI | I90: NO | K90: =IF(C90="X","-",IF(AND('attribuzioni EPBEC_36-23'!I4=TRUE,'attribuzioni EPBEC_36-23'!J4=FALSE),'attribuzioni EPBEC_36-23'!K4,IF('attribuzioni EPBEC_36-23'!J4=TRUE,0,0))) -> 0 | L90: =IF(C90="X","(esternalizzato)",ROUND($O$64*(K90/100),2)) -> 0 | M90: =IFERROR(IF(C90="X","-",(1/$K$96*K90)),0) -> 0 | N90: =IFERROR(ROUND($O$64*(M90/100),2),0) -> 0 | O90: - - - - | R90: =IFERROR(IF(VLOOKUP(O90,personale[[NOMINATIVO]:[SERVIZIO]],4,FALSE)=0,"- - -",VLOOKUP(O90,personale[[NOMINATIVO]:[SERVIZIO]],4,FALSE)),"") -> - - -
A91: =+'attribuzioni EPBEC_36-23'!I5 -> FALSE | B91: =+'attribuzioni EPBEC_36-23'!J5 -> TRUE | C91: =IF(A52=TRUE,"X","") | E91: Redazione del progetto (livello unico) | G91: SI | I91: NO | K91: =IF(C91="X","-",IF(AND('attribuzioni EPBEC_36-23'!I5=TRUE,'attribuzioni EPBEC_36-23'!J5=FALSE),'attribuzioni EPBEC_36-23'!K5,IF('attribuzioni EPBEC_36-23'!J5=TRUE,0,0))) -> 0 | L91: =IF(C91="X","(esternalizzato)",ROUND($O$64*(K91/100),2)) -> 0 | M91: =IFERROR(IF(C91="X","-",(1/$K$96*K91)),0) -> 0 | N91: =IFERROR(ROUND($O$64*(M91/100),2),0) -> 0 | O91: - - - - | R91: =IFERROR(IF(VLOOKUP(O91,personale[[NOMINATIVO]:[SERVIZIO]],4,FALSE)=0,"- - -",VLOOKUP(O91,personale[[NOMINATIVO]:[SERVIZIO]],4,FALSE)),"") -> - - -
A92: =+'attribuzioni EPBEC_36-23'!I6 -> FALSE | B92: =+'attribuzioni EPBEC_36-23'!J6 -> TRUE | C92: =IF(A53=TRUE,"X","") | E92: Predisposizione dei documenti di gara | G92: SI | I92: NO | K92: =IF(C92="X","-",IF(AND('attribuzioni EPBEC_36-23'!I6=TRUE,'attribuzioni EPBEC_36-23'!J6=FALSE),'attribuzioni EPBEC_36-23'!K6,IF('attribuzioni EPBEC_36-23'!J6=TRUE,0,0))) -> 0 | L92: =IF(C92="X","(esternalizzato)",ROUND($O$64*(K92/100),2)) -> 0 | M92: =IFERROR(IF(C92="X","-",(1/$K$96*K92)),0) -> 0 | N92: =IFERROR(ROUND($O$64*(M92/100),2),0) -> 0 | O92: - - - - | R92: =IFERROR(IF(VLOOKUP(O92,personale[[NOMINATIVO]:[SERVIZIO]],4,FALSE)=0,"- - -",VLOOKUP(O92,personale[[NOMINATIVO]:[SERVIZIO]],4,FALSE)),"") -> - - -
A93: =+'attribuzioni EPBEC_36-23'!I7 -> FALSE | B93: =+'attribuzioni EPBEC_36-23'!J7 -> TRUE | C93: =IF(A54=TRUE,"X","") | E93: Direzione dell'esecuzione | G93: SI | I93: NO | K93: =IF(C93="X","-",IF(AND('attribuzioni EPBEC_36-23'!I7=TRUE,'attribuzioni EPBEC_36-23'!J7=FALSE),'attribuzioni EPBEC_36-23'!K7,IF('attribuzioni EPBEC_36-23'!J7=TRUE,0,0))) -> 0 | L93: =IF(C93="X","(esternalizzato)",ROUND($O$64*(K93/100),2)) -> 0 | M93: =IFERROR(IF(C93="X","-",(1/$K$96*K93)),0) -> 0 | N93: =IFERROR(ROUND($O$64*(M93/100),2),0) -> 0 | O93: - - - - | R93: =IFERROR(IF(VLOOKUP(O93,personale[[NOMINATIVO]:[SERVIZIO]],4,FALSE)=0,"- - -",VLOOKUP(O93,personale[[NOMINATIVO]:[SERVIZIO]],4,FALSE)),"") -> - - -
A94: =+'attribuzioni EPBEC_36-23'!I8 -> FALSE | B94: =+'attribuzioni EPBEC_36-23'!J8 -> TRUE | C94: =IF(A55=TRUE,"X","") | E94: Direzione operativa | G94: SI | I94: NO | K94: =IF(C94="X","-",IF(AND('attribuzioni EPBEC_36-23'!I8=TRUE,'attribuzioni EPBEC_36-23'!J8=FALSE),'attribuzioni EPBEC_36-23'!K8,IF('attribuzioni EPBEC_36-23'!J8=TRUE,0,0))) -> 0 | L94: =IF(C94="X","(esternalizzato)",ROUND($O$64*(K94/100),2)) -> 0 | M94: =IFERROR(IF(C94="X","-",(1/$K$96*K94)),0) -> 0 | N94: =IFERROR(ROUND($O$64*(M94/100),2),0) -> 0 | O94: - - - - | R94: =IFERROR(IF(VLOOKUP(O94,personale[[NOMINATIVO]:[SERVIZIO]],4,FALSE)=0,"- - -",VLOOKUP(O94,personale[[NOMINATIVO]:[SERVIZIO]],4,FALSE)),"") -> - - -
A95: =+'attribuzioni EPBEC_36-23'!I9 -> FALSE | B95: =+'attribuzioni EPBEC_36-23'!J9 -> TRUE | C95: =IF(A56=TRUE,"X","") | E95: Verifica di conformità | G95: SI | I95: NO | K95: =IF(C95="X","-",IF(AND('attribuzioni EPBEC_36-23'!I9=TRUE,'attribuzioni EPBEC_36-23'!J9=FALSE),'attribuzioni EPBEC_36-23'!K9,IF('attribuzioni EPBEC_36-23'!J9=TRUE,0,0))) -> 0 | L95: =IF(C95="X","(esternalizzato)",ROUND($O$64*(K95/100),2)) -> 0 | M95: =IFERROR(IF(C95="X","-",(1/$K$96*K95)),0) -> 0 | N95: =IFERROR(ROUND($O$64*(M95/100),2),0) -> 0 | O95: - - - - | R95: =IFERROR(IF(VLOOKUP(O95,personale[[NOMINATIVO]:[SERVIZIO]],4,FALSE)=0,"- - -",VLOOKUP(O95,personale[[NOMINATIVO]:[SERVIZIO]],4,FALSE)),"") -> - - -
I96: Totale | K96: =SUM(K74:K95)&" %" -> 0 % | M96: =SUM(M74:M95) -> 0 | N96: =SUM(N74:N95) -> 0
E98: nominativo | F98: GRUPPO DI LAVORO | G98: servizio | J98: importo €URO | M98: % | O98: Note
E99: {=personale[NOMINATIVO]} -> - - - - | F99: {=IFERROR(IF(personale[NOMINATIVO]="- - - -","",IF((VLOOKUP(personale[NOMINATIVO],O74:R95,1,))=personale[NOMINATIVO],"SI","NO")),"")} | G99: =IFERROR(IF(VLOOKUP(E99,personale[[NOMINATIVO]:[SERVIZIO]],4,FALSE)=0,"",VLOOKUP(E99,personale[[NOMINATIVO]:[SERVIZIO]],4,FALSE)),"") | J99: =IFERROR(IF(IF(VLOOKUP(E99,personale[[NOMINATIVO]:[SERVIZIO]],4,FALSE)=0,"",SUMIF($O$74:$Q$95,E99,$N$74:$N$95))=0,"",IF(VLOOKUP(E99,personale[[NOMINATIVO]:[SERVIZIO]],4,FALSE)=0,"",SUMIF($O$74:$Q$95,E99,$N$74:$N$95))),"") | M99: =IFERROR($J99/$J$126*100,"") | O99: Utilizzare il filtro della colonna "GRUPPO DI LAVORO" per selezionare i nominativi dei componenti e i rispettivi importi totali spettanti.
E100: NICOLA AMIDEI | G100: =IFERROR(IF(VLOOKUP(E100,personale[[NOMINATIVO]:[SERVIZIO]],4,FALSE)=0,"",VLOOKUP(E100,personale[[NOMINATIVO]:[SERVIZIO]],4,FALSE)),"") -> Finanziario | J100: =IF(SUMIF($O$74:$Q$95,E100,$N$74:$N$95)=0,"",SUMIF($O$74:$Q$95,E100,$N$74:$N$95)) | M100: =IFERROR($J100/$J$126*100,"")
E101: ROBERTA AZZONI | G101: =IFERROR(IF(VLOOKUP(E101,personale[[NOMINATIVO]:[SERVIZIO]],4,FALSE)=0,"",VLOOKUP(E101,personale[[NOMINATIVO]:[SERVIZIO]],4,FALSE)),"") -> Vigilanza | J101: =IF(SUMIF($O$74:$Q$95,E101,$N$74:$N$95)=0,"",SUMIF($O$74:$Q$95,E101,$N$74:$N$95)) | M101: =IFERROR($J101/$J$126*100,"")
E102: MICHELLE BALBONI | G102: =IFERROR(IF(VLOOKUP(E102,personale[[NOMINATIVO]:[SERVIZIO]],4,FALSE)=0,"",VLOOKUP(E102,personale[[NOMINATIVO]:[SERVIZIO]],4,FALSE)),"") -> Vigilanza | J102: =IF(SUMIF($O$74:$Q$95,E102,$N$74:$N$95)=0,"",SUMIF($O$74:$Q$95,E102,$N$74:$N$95)) | M102: =IFERROR($J102/$J$126*100,"")
E103: LEONARDO BARTOLI | G103: =IFERROR(IF(VLOOKUP(E103,personale[[NOMINATIVO]:[SERVIZIO]],4,FALSE)=0,"",VLOOKUP(E103,personale[[NOMINATIVO]:[SERVIZIO]],4,FALSE)),"") -> Vigilanza | J103: =IF(SUMIF($O$74:$Q$95,E103,$N$74:$N$95)=0,"",SUMIF($O$74:$Q$95,E103,$N$74:$N$95)) | M103: =IFERROR($J103/$J$126*100,"")
E104: ALESSANDRO BATTAGLIA | G104: =IFERROR(IF(VLOOKUP(E104,personale[[NOMINATIVO]:[SERVIZIO]],4,FALSE)=0,"",VLOOKUP(E104,personale[[NOMINATIVO]:[SERVIZIO]],4,FALSE)),"") -> Vigilanza | J104: =IF(SUMIF($O$74:$Q$95,E104,$N$74:$N$95)=0,"",SUMIF($O$74:$Q$95,E104,$N$74:$N$95)) | M104: =IFERROR($J104/$J$126*100,"")
E105: LAURA CONTRI | G105: =IFERROR(IF(VLOOKUP(E105,personale[[NOMINATIVO]:[SERVIZIO]],4,FALSE)=0,"",VLOOKUP(E105,personale[[NOMINATIVO]:[SERVIZIO]],4,FALSE)),"") -> Finanziario | J105: =IF(SUMIF($O$74:$Q$95,E105,$N$74:$N$95)=0,"",SUMIF($O$74:$Q$95,E105,$N$74:$N$95)) | M105: =IFERROR($J105/$J$126*100,"")
E106: ALESSIO FRANCIOSI | G106: =IFERROR(IF(VLOOKUP(E106,personale[[NOMINATIVO]:[SERVIZIO]],4,FALSE)=0,"",VLOOKUP(E106,personale[[NOMINATIVO]:[SERVIZIO]],4,FALSE)),"") -> Pianificazione | J106: =IF(SUMIF($O$74:$Q$95,E106,$N$74:$N$95)=0,"",SUMIF($O$74:$Q$95,E106,$N$74:$N$95)) | M106: =IFERROR($J106/$J$126*100,"")
E107: ALESSANDRA GALLI | G107: =IFERROR(IF(VLOOKUP(E107,personale[[NOMINATIVO]:[SERVIZIO]],4,FALSE)=0,"",VLOOKUP(E107,personale[[NOMINATIVO]:[SERVIZIO]],4,FALSE)),"") -> Finanziario | J107: =IF(SUMIF($O$74:$Q$95,E107,$N$74:$N$95)=0,"",SUMIF($O$74:$Q$95,E107,$N$74:$N$95)) | M107: =IFERROR($J107/$J$126*100,"")
E108: MANUELA GHERARDI | G108: =IFERROR(IF(VLOOKUP(E108,personale[[NOMINATIVO]:[SERVIZIO]],4,FALSE)=0,"",VLOOKUP(E108,personale[[NOMINATIVO]:[SERVIZIO]],4,FALSE)),"") -> Segreteria | J108: =IF(SUMIF($O$74:$Q$95,E108,$N$74:$N$95)=0,"",SUMIF($O$74:$Q$95,E108,$N$74:$N$95)) | M108: =IFERROR($J108/$J$126*100,"")
E109: DYRON LOPEZ | G109: =IFERROR(IF(VLOOKUP(E109,personale[[NOMINATIVO]:[SERVIZIO]],4,FALSE)=0,"",VLOOKUP(E109,personale[[NOMINATIVO]:[SERVIZIO]],4,FALSE)),"") -> Vigilanza | J109: =IF(SUMIF($O$74:$Q$95,E109,$N$74:$N$95)=0,"",SUMIF($O$74:$Q$95,E109,$N$74:$N$95)) | M109: =IFERROR($J109/$J$126*100,"")
E110: FAUSTO MINELLI | G110: =IFERROR(IF(VLOOKUP(E110,personale[[NOMINATIVO]:[SERVIZIO]],4,FALSE)=0,"",VLOOKUP(E110,personale[[NOMINATIVO]:[SERVIZIO]],4,FALSE)),"") -> Pianificazione | J110: =IF(SUMIF($O$74:$Q$95,E110,$N$74:$N$95)=0,"",SUMIF($O$74:$Q$95,E110,$N$74:$N$95)) | M110: =IFERROR($J110/$J$126*100,"")
E111: GIULIANO MONZALI | G111: =IFERROR(IF(VLOOKUP(E111,personale[[NOMINATIVO]:[SERVIZIO]],4,FALSE)=0,"",VLOOKUP(E111,personale[[NOMINATIVO]:[SERVIZIO]],4,FALSE)),"") -> Tecnico | J111: =IF(SUMIF($O$74:$Q$95,E111,$N$74:$N$95)=0,"",SUMIF($O$74:$Q$95,E111,$N$74:$N$95)) | M111: =IFERROR($J111/$J$126*100,"")
... E119: MELISSA ZANELLI | G119: =IFERROR(IF(VLOOKUP(E119,personale[[NOMINATIVO]:[SERVIZIO]],4,FALSE)=0,"",VLOOKUP(E119,personale[[NOMINATIVO]:[SERVIZIO]],4,FALSE)),"") -> Vigilanza | J119: =IF(SUMIF($O$74:$Q$95,E119,$N$74:$N$95)=0,"",SUMIF($O$74:$Q$95,E119,$N$74:$N$95)) | M119: =IFERROR($J119/$J$126*100,"")
G120: =IFERROR(IF(VLOOKUP(E120,personale[[NOMINATIVO]:[SERVIZIO]],4,FALSE)=0,"",VLOOKUP(E120,personale[[NOMINATIVO]:[SERVIZIO]],4,FALSE)),"") | J120: =IF(SUMIF($O$74:$Q$95,E120,$N$74:$N$95)=0,"",SUMIF($O$74:$Q$95,E120,$N$74:$N$95)) | M120: =IFERROR($J120/$J$126*100,"")
G121: =IFERROR(IF(VLOOKUP(E121,personale[[NOMINATIVO]:[SERVIZIO]],4,FALSE)=0,"",VLOOKUP(E121,personale[[NOMINATIVO]:[SERVIZIO]],4,FALSE)),"") | J121: =IF(SUMIF($O$74:$Q$95,E121,$N$74:$N$95)=0,"",SUMIF($O$74:$Q$95,E121,$N$74:$N$95)) | M121: =IFERROR($J121/$J$126*100,"")
G122: =IFERROR(IF(VLOOKUP(E122,personale[[NOMINATIVO]:[SERVIZIO]],4,FALSE)=0,"",VLOOKUP(E122,personale[[NOMINATIVO]:[SERVIZIO]],4,FALSE)),"") | J122: =IF(SUMIF($O$74:$Q$95,E122,$N$74:$N$95)=0,"",SUMIF($O$74:$Q$95,E122,$N$74:$N$95)) | M122: =IFERROR($J122/$J$126*100,"")
G123: =IFERROR(IF(VLOOKUP(E123,personale[[NOMINATIVO]:[SERVIZIO]],4,FALSE)=0,"",VLOOKUP(E123,personale[[NOMINATIVO]:[SERVIZIO]],4,FALSE)),"") | J123: =IF(SUMIF($O$74:$Q$95,E123,$N$74:$N$95)=0,"",SUMIF($O$74:$Q$95,E123,$N$74:$N$95)) | M123: =IFERROR($J123/$J$126*100,"")
G124: =IFERROR(IF(VLOOKUP(E124,personale[[NOMINATIVO]:[SERVIZIO]],4,FALSE)=0,"",VLOOKUP(E124,personale[[NOMINATIVO]:[SERVIZIO]],4,FALSE)),"") | J124: =IF(SUMIF($O$74:$Q$95,E124,$N$74:$N$95)=0,"",SUMIF($O$74:$Q$95,E124,$N$74:$N$95)) | M124: =IFERROR($J124/$J$126*100,"")
H126: TOTALE | J126: =SUBTOTAL(109,J99:K124) -> 0 | M126: =SUBTOTAL(109,M99:N124) -> 0

Sheet decurtazione %
B2: decurtazione quota fondo | H2: decurtazione quota CUC
B3: 0 | H3: 0
B4: 0.1 | H4: 0.1
B5: 0.2 | H5: 0.2
B6: 0.3 | H6: 0.3
B7: 0.4 | H7: 0.4
B8: 0.5 | H8: 0.5
B9: 0.6 | H9: 0.6
B10: 0.7 | H10: 0.7
B11: 0.8 | H11: 0.8
B12: 0.9 | H12: 0.9
B13: 1 | H13: 1
B14: 1.1 | H14: 1.1
... B103: 10 | H103: 10
H104: 10.1
H105: 10.2
H106: 10.3
H107: 10.4
H108: 10.5
H109: 10.6
H110: 10.7
H111: 10.8
H112: 10.9
H113: 11
H114: 11.1
H115: 11.2
... H203: 20

Sheet fondo_%_LAVORI_36-23
A2: Classi di importo dei Lavori €uro | C2: Percentuale da applicare per la costituzione del fondo | D2: Quota fondo Centrale Committenza se coinvolta
A3: > = | B3: < | C3: % | D3: %
B4: 14999.99 | C4: 0 | D4: 0
A5: 15000 | B5: 2000000 | C5: 2 | D5: 20
A6: 2000000 | B6: 5382000 | C6: 1.8 | D6: 20
A7: 5382000 | C7: 1.6 | D7: 20

Sheet fondo_%_SERVIZI-FORNITURE_36-23
A2: Classi di importo dei Servizi/Forniture €uro | C2: Percentuale da applicare per la costituzione del fondo | D2: Quota fondo Centrale Committenza se coinvolta
A3: > = | B3: < | C3: % | D3: %
B4: 14999.99 | C4: 0 | D4: 0
A5: 15000 | B5: 215000 | C5: 2 | D5: 20
A6: 215000.01 | C6: 1.8 | D6: 20

Sheet CUC_36-23
H7: SE(fondo_EPBEC!$M$1="lavori";SE(H7<='fondo_%_LAVORI_36-23'!B4;'fondo_%_LAVORI_36-23'!C4;SE(E(H7>='fondo_%_LAVORI_36-23'!A5;H7<='fondo_%_LAVORI_36-23'!B5);'fondo_%_LAVORI_36-23'!C5;SE(E(H7>='fondo_%_LAVORI_36-23'!A6;H7<='fondo_%_LAVORI_36-23'!B6);'fondo_%_LAVORI_36-23'!C6;SE(H7>='fondo_%_LAVORI_36-23'!A7;'fondo_%_LAVORI_36-23'!C7;))));SE(O(fondo_EPBEC!$M$1="servizi";fondo_EPBEC!$M$1="forniture");SE(H7<='fondo_%_SERVIZI-FORNITURE_36-23'!B4;'fondo_%_SERVIZI-FORNITURE_36-23'!C4;SE(E(H7>='fondo_%_SERVIZI-FORNITURE_36-23'!A5;H7<='fondo_%_SERVIZI-FORNITURE_36-23'!B5);'fondo_%_SERVIZI-FORNITURE_36-23'!C5;SE(H7>='fondo_%_SERVIZI-FORNITURE_36-23'!A6;'fondo_%_SERVIZI-FORNITURE_36-23'!C6;0)))))
A15: SI | B15: FALSE
A16: NO | B16: TRUE
A18: percentuale CUC | C18: =IF(fondo_EPBEC!$M$1="lavori",IF(fondo_EPBEC!$N$9<='fondo_%_LAVORI_36-23'!B4,'fondo_%_LAVORI_36-23'!D4,IF(AND(fondo_EPBEC!$N$9>='fondo_%_LAVORI_36-23'!A5,fondo_EPBEC!$N$9<='fondo_%_LAVORI_36-23'!B5),'fondo_%_LAVORI_36-23'!D5,IF(AND(fondo_EPBEC!$N$9>='fondo_%_LAVORI_36-23'!A6,fondo_EPBEC!$N$9<='fondo_%_LAVORI_36-23'!B6),'fondo_%_LAVORI_36-23'!D6,IF(fondo_EPBEC!$N$9>='fondo_%_LAVORI_36-23'!A7,'fondo_%_LAVORI_36-23'!D7,)))),0)+IF(OR(fondo_EPBEC!$M$1="servizi",fondo_EPBEC!$M$1="forniture"),IF(fondo_EPBEC!$N$9<='fondo_%_SERVIZI-FORNITURE_36-23'!B4,'fondo_%_SERVIZI-FORNITURE_36-23'!D4,IF(AND(fondo_EPBEC!$N$9>='fondo_%_SERVIZI-FORNITURE_36-23'!A5,fondo_EPBEC!$N$9<='fondo_%_SERVIZI-FORNITURE_36-23'!B5),'fondo_%_SERVIZI-FORNITURE_36-23'!D5,IF(fondo_EPBEC!$N$9>='fondo_%_SERVIZI-FORNITURE_36-23'!A6,'fondo_%_SERVIZI-FORNITURE_36-23'!D6,0))),0) -> 0

Sheet vincolo_FONDO
A2: SI | B2: FALSE | C2: =IF(B2=TRUE,1,0) -> 0
A3: NO | B3: TRUE | C3: =IF(B3=TRUE,1,"") -> 1

Sheet tabella_LAVORI_36-23
A2: Attività tecnica | B2: Percentuale
A3: Responsabile unico del progetto | B3: 28
A4: Programmazione della spesa per investimenti | B4: 3
A5: Collaborazione all'attività del RUP, quali responsabili e addetti alla gestione tecnico-amministrativa dell'intervento | B5: 10
A6: Redazione del documento di fattibilità delle alternative progettuali | B6: 1
A7: Redazione del progetto di fattibilità tecnica ed economica | B7: 3
A8: Redazione del progetto esecutivo | B8: 8
A9: Coordinamento per la sicurezza in fase di progettazione | B9: 3
A10: Verifica del progetto ai fini della sua validazione | B10: 10
A11: Predisposizione dei documenti di gara | B11: 12
A12: Direzione dei lavori | B12: 8
A13: Collaborazione Direzione Lavori | B13: 3
A14: Coordinamento per la sicurezza in fase di esecuzione | B14: 3
... A16: Collaudo statico | B16: 2
A17: Totale | B17: =SUM(B3:B16) -> 100

Sheet tabella_SERVIZI-FORNITURE_36-23
A2: Attività tecnica | B2: Percentuale
A3: Responsabile unico del progetto | B3: 28
A4: Programmazione della spesa per investimenti | B4: 3
A5: Collaborazione all'attività del RUP, quali responsabili e addetti alla gestione tecnico-amministrativa dell'intervento | B5: 10
A6: Redazione del progetto (livello unico) | B6: 8
A7: Predisposizione dei documenti di gara | B7: 12
A8: Direzione dell'esecuzione | B8: 14
A9: Direzione operativa | B9: 10
A10: Verifica di conformità | B10: 15
A11: Totale | B11: =SUM(B3:B10) -> 100

Sheet affidamenti EXT_36-23
B1: attività esternalizzata - LAVORI | C1: SI | D1: NO | E1: % | H1: attività esternalizzata - SERVIZI / FORNITURE | I1: SI | J1: NO | K1: %
B2: Responsabile unico del progetto | C2: FALSE | D2: TRUE | E2: 28 | H2: Responsabile unico del progetto | I2: FALSE | J2: TRUE | K2: 28
B3: Programmazione della spesa per investimenti | C3: FALSE | D3: TRUE | E3: 3 | H3: Programmazione della spesa per investimenti | I3: FALSE | J3: TRUE | K3: 3
B4: Collaborazione all'attività del RUP, quali responsabili e addetti alla gestione tecnico-amministrativa dell'intervento | C4: FALSE | D4: TRUE | E4: 10 | H4: Collaborazione all'attività del RUP, quali responsabili e addetti alla gestione tecnico-amministrativa dell'intervento | I4: FALSE | J4: TRUE | K4: 10
B5: Redazione del documento di fattibilità delle alternative progettuali | C5: FALSE | D5: TRUE | E5: 1 | H5: Redazione del progetto (livello unico) | I5: FALSE | J5: TRUE | K5: 8
B6: Redazione del progetto di fattibilità tecnica ed economica | C6: FALSE | D6: TRUE | E6: 3 | H6: Predisposizione dei documenti di gara | I6: FALSE | J6: TRUE | K6: 12
B7: Redazione del progetto esecutivo | C7: FALSE | D7: TRUE | E7: 8 | H7: Direzione dell'esecuzione | I7: FALSE | J7: TRUE | K7: 14
B8: Coordinamento per la sicurezza in fase di progettazione | C8: FALSE | D8: TRUE | E8: 3 | H8: Direzione operativa | I8: FALSE | J8: TRUE | K8: 10
B9: Verifica del progetto ai fini della sua validazione | C9: FALSE | D9: TRUE | E9: 10 | H9: Verifica di conformità | I9: FALSE | J9: TRUE | K9: 15
B10: Predisposizione dei documenti di gara | C10: FALSE | D10: TRUE | E10: 12 | H10: TOTALE | K10: =SUM(K2:K9) -> 100
B11: Direzione dei lavori | C11: FALSE | D11: TRUE | E11: 8
B12: Collaborazione Direzione Lavori | C12: FALSE | D12: TRUE | E12: 3
B13: Coordinamento per la sicurezza in fase di esecuzione | C13: FALSE | D13: TRUE | E13: 3
B14: Regolare esecuzione, collaudo tecnico-amministrativo | C14: FALSE | D14: TRUE | E14: 6
B15: Collaudo statico | C15: FALSE | D15: TRUE | E15: 2
B16: TOTALE | E16: =SUM(E2:E15) -> 100

Sheet attribuzioni EPBEC_36-23
B1: attività attribuita al personale EPBEC - LAVORI | C1: SI | D1: NO | E1: % | H1: attività attribuita al personale EPBEC - SERVIZI / FORNITURE | I1: SI | J1: NO | K1: %
B2: Responsabile unico del progetto | C2: FALSE | D2: TRUE | E2: 28 | H2: Responsabile unico del progetto | I2: FALSE | J2: TRUE | K2: 28
B3: Programmazione della spesa per investimenti | C3: FALSE | D3: TRUE | E3: 3 | H3: Programmazione della spesa per investimenti | I3: FALSE | J3: TRUE | K3: 3
B4: Collaborazione all'attività del RUP, quali responsabili e addetti alla gestione tecnico-amministrativa dell'intervento | C4: FALSE | D4: TRUE | E4: 10 | H4: Collaborazione all'attività del RUP, quali responsabili e addetti alla gestione tecnico-amministrativa dell'intervento | I4: FALSE | J4: TRUE | K4: 10
B5: Redazione del documento di fattibilità delle alternative progettuali | C5: FALSE | D5: TRUE | E5: 1 | H5: Redazione del progetto (livello unico) | I5: FALSE | J5: TRUE | K5: 8
B6: Redazione del progetto di fattibilità tecnica ed economica | C6: FALSE | D6: TRUE | E6: 3 | H6: Predisposizione dei documenti di gara | I6: FALSE | J6: TRUE | K6: 12
B7: Redazione del progetto esecutivo | C7: FALSE | D7: TRUE | E7: 8 | H7: Direzione dell'esecuzione | I7: FALSE | J7: TRUE | K7: 14
B8: Coordinamento per la sicurezza in fase di progettazione | C8: FALSE | D8: TRUE | E8: 3 | H8: Direzione operativa | I8: FALSE | J8: TRUE | K8: 10
B9: Verifica del progetto ai fini della sua validazione | C9: FALSE | D9: TRUE | E9: 10 | H9: Verifica di conformità | I9: FALSE | J9: TRUE | K9: 15
B10: Predisposizione dei documenti di gara | C10: FALSE | D10: TRUE | E10: 12 | H10: TOTALE | K10: =SUM(K2:K9) -> 100
B11: Direzione dei lavori | C11: FALSE | D11: TRUE | E11: 8
B12: Collaborazione Direzione Lavori | C12: FALSE | D12: TRUE | E12: 3
B13: Coordinamento per la sicurezza in fase di esecuzione | C13: FALSE | D13: TRUE | E13: 3
B14: Regolare esecuzione, collaudo tecnico-amministrativo | C14: FALSE | D14: TRUE | E14: 6
B15: Collaudo statico | C15: FALSE | D15: TRUE | E15: 2
B16: TOTALE | E16: =SUM(E2:E15) -> 100

Sheet personale
A1: GRUPPO_LAVORO | B1: NOMINATIVO | C1: NOME | D1: COGNOME | E1: SERVIZIO
B2: =UPPER(personale[[#This Row],[NOME]]&" "&personale[[#This Row],[COGNOME]]) -> - - - - | C2: - - | D2: - - | G2: ="" | J2: =LEN(personale[[#This Row],[NOME]]) -> 3
B3: =UPPER(personale[[#This Row],[NOME]]&" "&personale[[#This Row],[COGNOME]]) -> NICOLA AMIDEI | C3: nicola | D3: amidei | E3: Finanziario | G3: ="SI" -> SI
B4: =UPPER(personale[[#This Row],[NOME]]&" "&personale[[#This Row],[COGNOME]]) -> ROBERTA AZZONI | C4: roberta | D4: azzoni | E4: Vigilanza
B5: =UPPER(personale[[#This Row],[NOME]]&" "&personale[[#This Row],[COGNOME]]) -> MICHELLE BALBONI | C5: michelle | D5: balboni | E5: Vigilanza
B6: =UPPER(personale[[#This Row],[NOME]]&" "&personale[[#This Row],[COGNOME]]) -> LEONARDO BARTOLI | C6: leonardo | D6: bartoli | E6: Vigilanza
B7: =UPPER(personale[[#This Row],[NOME]]&" "&personale[[#This Row],[COGNOME]]) -> ALESSANDRO BATTAGLIA | C7: alessandro | D7: battaglia | E7: Vigilanza
B8: =UPPER(personale[[#This Row],[NOME]]&" "&personale[[#This Row],[COGNOME]]) -> LAURA CONTRI | C8: laura | D8: contri | E8: Finanziario
B9: =UPPER(personale[[#This Row],[NOME]]&" "&personale[[#This Row],[COGNOME]]) -> ALESSIO FRANCIOSI | C9: alessio | D9: franciosi | E9: Pianificazione
B10: =UPPER(personale[[#This Row],[NOME]]&" "&personale[[#This Row],[COGNOME]]) -> ALESSANDRA GALLI | C10: alessandra | D10: galli | E10: Finanziario
B11: =UPPER(personale[[#This Row],[NOME]]&" "&personale[[#This Row],[COGNOME]]) -> MANUELA GHERARDI | C11: manuela | D11: gherardi | E11: Segreteria
B12: =UPPER(personale[[#This Row],[NOME]]&" "&personale[[#This Row],[COGNOME]]) -> DYRON LOPEZ | C12: Dyron | D12: Lopez | E12: Vigilanza
B13: =UPPER(personale[[#This Row],[NOME]]&" "&personale[[#This Row],[COGNOME]]) -> FAUSTO MINELLI | C13: fausto | D13: minelli | E13: Pianificazione
B14: =UPPER(personale[[#This Row],[NOME]]&" "&personale[[#This Row],[COGNOME]]) -> GIULIANO MONZALI | C14: giuliano | D14: monzali | E14: Tecnico
B15: =UPPER(personale[[#This Row],[NOME]]&" "&personale[[#This Row],[COGNOME]]) -> GABRIELE MORDINI | C15: GABRIELE | D15: MORDINI | E15: Tecnico
... B22: =UPPER(personale[[#This Row],[NOME]]&" "&personale[[#This Row],[COGNOME]]) -> MELISSA ZANELLI | C22: melissa | D22: zanelli | E22: Vigilanza
A23: Selezionare " SI " se il nominativo è da inserire nel gruppo di lavoro.
A24: Altrimenti lasciare in bianco

Sheet tabella_LAVORI
A1: LAVORI | B1: progr. | C1: verifica | D1: affidam. | E1: esecuz. | F1: TOTALE
A2: responsabile della programmazione | B2: 2 | F2: =SUM(B2:E2) -> 2
A3: responsabile del procedimento | C3: 5 | D3: 7 | E3: 9 | F3: =SUM(B3:E3) -> 21
A4: verificatore della progettazione | C4: 7 | F4: =SUM(B4:E4) -> 7
A5: direzione lavori | E5: 27 | F5: =SUM(B5:E5) -> 27
A6: direttore dell'esecuzione
A7: collaudatore / certificatore reg. esec. | E7: 10 | F7: =SUM(B7:E7) -> 10
A8: verificatore / certificatore reg. esec.
A9: collaboratori tecnici | B9: 1.5 | C9: 1.5 | D9: 5 | E9: 8 | F9: =SUM(B9:E9) -> 16
A10: collaboratori giuridico amministrativi | B10: 1.5 | C10: 1.5 | D10: 8 | E10: 6 | F10: =SUM(B10:E10) -> 17
A11: Totale | B11: =SUM(B2:B10) -> 5 | C11: =SUM(C2:C10) -> 15 | D11: =SUM(D2:D10) -> 20 | E11: =SUM(E2:E10) -> 60 | F11: =SUM(F2:F10) -> 100

Sheet tabella_SERVIZI
A1: SERVIZI / FORNITURE | B1: progr. | C1: verifica | D1: affidam. | E1: esecuz. | F1: TOTALE
A2: responsabile della programmazione | B2: 3 | F2: =SUM(B2:E2) -> 3
A3: responsabile del procedimento | D3: 10 | E3: 15 | F3: =SUM(B3:E3) -> 25
A4: verificatore della progettazione
A5: direzione lavori
A6: direttore dell'esecuzione | E6: 30 | F6: =SUM(B6:E6) -> 30
A7: collaudatore / certificatore reg. esec.
A8: verificatore / certificatore reg. esec. | E8: 10 | F8: =SUM(B8:E8) -> 10
A9: collaboratori tecnici | B9: 1 | D9: 7 | E9: 8 | F9: =SUM(B9:E9) -> 16
A10: collaboratori giuridico amministrativi | B10: 1 | D10: 8 | E10: 7 | F10: =SUM(B10:E10) -> 16
A11: Totale | B11: =SUM(B2:B10) -> 5 | D11: =SUM(D2:D10) -> 25 | E11: =SUM(E2:E10) -> 70 | F11: =SUM(F2:F10) -> 100

Sheet fondo_%_LAVORI
A2: Classi di importo dei Lavori €uro | C2: Percentuale da applicare per la costituzione del fondo | D2: Quota fondo Centrale Committenza se coinvolta
A3: > = | B3: < | C3: % | D3: %
A4: 0 | B4: 500000 | C4: 2 | D4: 15
A5: 500000 | B5: 1000000 | C5: 1.8 | D5: 11
A6: 1000000 | B6: 5548000 | C6: 1.6 | D6: 8
A7: 5548000 | B7: 10000000 | C7: 1.4 | D7: 4
A8: 10000000 | B8: 25000000 | C8: 1 | D8: 2
A9: 25000000 | C9: 0.5 | D9: 1

Sheet fondo_%_SERVIZI
A2: Classi di importo dei Lavori €uro | C2: Percentuale da applicare per la costituzione del fondo | D2: Quota fondo Centrale Committenza se coinvolta
A3: > = | B3: < | C3: % | D3: %
A4: 0 | B4: 211000 | C4: 2 | D4: 15
A5: 211000 | B5: 750000 | C5: 1.8 | D5: 11
A6: 750000 | C6: 1.6 | D6: 8

Sheet cuc
A15: SI | B15: TRUE
A16: NO | B16: FALSE
A18: percentuale CUC | C18: =IF(fondo_EPBEC!$M$1="lavori",IF(fondo_EPBEC!$N$9<'fondo_%_LAVORI'!B4,'fondo_%_LAVORI'!D4,IF(AND(fondo_EPBEC!$N$9>='fondo_%_LAVORI'!A5,fondo_EPBEC!$N$9<'fondo_%_LAVORI'!B5),'fondo_%_LAVORI'!D5,IF(AND(fondo_EPBEC!$N$9>='fondo_%_LAVORI'!A6,fondo_EPBEC!$N$9<'fondo_%_LAVORI'!B6),'fondo_%_LAVORI'!D6,IF(AND(fondo_EPBEC!$N$9>='fondo_%_LAVORI'!A7,fondo_EPBEC!$N$9<'fondo_%_LAVORI'!B7),'fondo_%_LAVORI'!D7,IF(OR(fondo_EPBEC!$N$9>='fondo_%_LAVORI'!A8,fondo_EPBEC!$N$9<'fondo_%_LAVORI'!B8),'fondo_%_LAVORI'!D8,IF(fondo_EPBEC!$N$9>='fondo_%_LAVORI'!A9,'fondo_%_LAVORI'!D9,0)))))),0)+IF(OR(fondo_EPBEC!$M$1="servizi",fondo_EPBEC!$M$1="forniture"),IF(fondo_EPBEC!$N$9<'fondo_%_SERVIZI'!B4,'fondo_%_SERVIZI'!D4,IF(AND(fondo_EPBEC!$N$9>='fondo_%_SERVIZI'!A5,fondo_EPBEC!$N$9<'fondo_%_SERVIZI'!B5),'fondo_%_SERVIZI'!D5,IF(fondo_EPBEC!$N$9>='fondo_%_SERVIZI'!A6,'fondo_%_SERVIZI'!D6,0))),0) -> 0

Sheet DL+collaudo_EXT
A16: lavori | B16: direzione lavori esterna
B17: SI | C17: FALSE | D17: =+tabella_LAVORI!E5 -> 27
B18: NO | C18: FALSE
A20: lavori | B20: collaudo esterno
B21: SI | C21: FALSE | D21: =+tabella_LAVORI!E7 -> 10
B22: NO | C22: FALSE
A24: servizi | B24: direzione esecuzione esterna
B25: SI | C25: FALSE | D25: =+tabella_SERVIZI!E6 -> 30
B26: NO | C26: FALSE
A28: servizi | B28: collaudo esterno
B29: SI | C29: FALSE | D29: =+tabella_SERVIZI!E8 -> 10
B30: NO | C30: FALSE

Sheet ITACA LAVORI
A1: FUNZIONE AFFIDATA | B1: Fase programmazione | C1: Fase verifica | D1: Fase affidamento | E1: Fase esecuzione | F1: Totale
B2: =B3+B4+B5+B6+B7+B8+B9 -> 0.05 | C2: =C3+C4+C5+C6+C7+C8+C9 -> 0.15 | D2: =D3+D4+D5+D6+D7+D8+D9 -> 0.2 | E2: =E3+E4+E5+E6+E7+E8+E9 -> 0.6 | F2: =B2+C2+D2+E2 -> 1
A3: Responsabile della programmazione | B3: 0.02 | F3: =B3+C3+D3+E3 -> 0.02
A4: Responsabile del procedimento | C4: 0.05 | D4: 0.07 | E4: 0.09 | F4: =B4+C4+D4+E4 -> 0.21
A5: Verificatore progettazione | C5: 0.07 | F5: =B5+C5+D5+E5 -> 0.07
A6: Direzione dei lavori* | E6: 0.27 | F6: =B6+C6+D6+E6 -> 0.27
A7: Collaudatore/Certificatore regolare esecuzione** | E7: 0.1 | F7: =B7+C7+D7+E7 -> 0.1
A8: Collaboratori tecnici *** | B8: 0.015 | C8: 0.015 | D8: 0.05 | E8: 0.08 | F8: =B8+C8+D8+E8 -> 0.16
A9: Collaboratori giuridico-amministrativi *** | B9: 0.015 | C9: 0.015 | D9: 0.08 | E9: 0.06 | F9: =B9+C9+D9+E9 -> 0.17
A10: * In caso di presenza di ulteriore figure rispetto al Direttore dei lavori, la percentuale è così ripartita: Direttore dei lavori …..; Direttore operativo ….; Ispettore di cantiere.
A11: ** Fermo restando l’importo complessivo del 2%, la percentuale del 10% indicata per il collaudo è quella massima applicabile in caso di collaudo in corso d'opera, espletato da una commissione di collaudo incaricata del collaudo tecnico amministrativo, ivi inclusa anche la percentuale per il collaudatore statico.
A12: Nel caso in cui, in luogo del collaudo, si dia corso al certificato di regolare esecuzione, la percentuale è quella prevista per il collaudo.
A13: *** Comprendono i collaboratori a supporto del RUP e delle altre figure.

Sheet ITACA SERVIZI
A1: FUNZIONE AFFIDATA | B1: Fase programmazione | C1: Fase affidamento | D1: Fase esecuzione | E1: Totale per fasi
A2: Responsabile della programmazione | B2: 0.03 | E2: =B2+C2+D2 -> 0.03
A3: Responsabile del procedimento | C3: 0.1 | D3: 0.15 | E3: =B3+C3+D3 -> 0.25
A4: Direttore dell’esecuzione | D4: 0.3 | E4: =B4+C4+D4 -> 0.3
A5: Verificatore della conformità/Certificatore regolare esecuzione | D5: 0.1 | E5: =B5+C5+D5 -> 0.1
A6: Collaboratori tecnici ** | B6: 0.01 | C6: 0.07 | D6: 0.08 | E6: =B6+C6+D6 -> 0.16
A7: Collaboratori giuridico-amministrativi ** | B7: 0.01 | C7: 0.08 | D7: 0.07 | E7: =B7+C7+D7 -> 0.16
A8: Totale | B8: =B2+B3+B4+B5+B6+B7 -> 0.05 | C8: =C2+C3+C4+C5+C6+C7 -> 0.25 | D8: =D2+D3+D4+D5+D6+D7 -> 0.7 | E8: =E2+E3+E4+E5+E6+E7 -> 1
A9: ** Comprendono i collaboratori a supporto del RUP e delle altre figure.
